BEGIN:VCALENDAR
VERSION:2.0
PRODID:Events Booking
BEGIN:VEVENT
UID:69e9efb6e8f5b
SUMMARY:HCC Board Meeting
DESCRIPTION:
DTSTART:20160906T233000Z
DTSTAMP:20260423T100854Z
ORGANIZER;CN=Hellenic Cultural Center of the Southwest:MAILTO:info@hcc-sw.c
 om
END:VEVENT
END:VCALENDAR